BEGIN:VCALENDAR
VERSION:2.0
PRODID:-//Skating Club of Northern Virginia - ECPv6.15.20//NONSGML v1.0//EN
CALSCALE:GREGORIAN
METHOD:PUBLISH
X-WR-CALNAME:Skating Club of Northern Virginia
X-ORIGINAL-URL:https://scnv.org
X-WR-CALDESC:Events for Skating Club of Northern Virginia
REFRESH-INTERVAL;VALUE=DURATION:PT1H
X-Robots-Tag:noindex
X-PUBLISHED-TTL:PT1H
BEGIN:VTIMEZONE
TZID:America/New_York
BEGIN:DAYLIGHT
TZOFFSETFROM:-0500
TZOFFSETTO:-0400
TZNAME:EDT
DTSTART:20250309T070000
END:DAYLIGHT
BEGIN:STANDARD
TZOFFSETFROM:-0400
TZOFFSETTO:-0500
TZNAME:EST
DTSTART:20251102T060000
END:STANDARD
BEGIN:DAYLIGHT
TZOFFSETFROM:-0500
TZOFFSETTO:-0400
TZNAME:EDT
DTSTART:20260308T070000
END:DAYLIGHT
BEGIN:STANDARD
TZOFFSETFROM:-0400
TZOFFSETTO:-0500
TZNAME:EST
DTSTART:20261101T060000
END:STANDARD
BEGIN:DAYLIGHT
TZOFFSETFROM:-0500
TZOFFSETTO:-0400
TZNAME:EDT
DTSTART:20270314T070000
END:DAYLIGHT
BEGIN:STANDARD
TZOFFSETFROM:-0400
TZOFFSETTO:-0500
TZNAME:EST
DTSTART:20271107T060000
END:STANDARD
END:VTIMEZONE
BEGIN:VEVENT
DTSTART;TZID=America/New_York:20260322T080000
DTEND;TZID=America/New_York:20260322T115000
DTSTAMP:20260421T114654
CREATED:20250914T012935Z
LAST-MODIFIED:20250914T012935Z
UID:15330-1774166400-1774180200@scnv.org
SUMMARY:03/2026 Test Session
DESCRIPTION:
URL:https://scnv.org/calendar-event/03-2026-test-session/
LOCATION:Fairfax Ice Arena\, 3779 Pickett Rd\, Fairfax\, VA\, 22031\, United States
CATEGORIES:Test Session
ORGANIZER;CN="Test Chair":MAILTO:testchair@scnv.org
END:VEVENT
BEGIN:VEVENT
DTSTART;TZID=America/New_York:20260321T074500
DTEND;TZID=America/New_York:20260321T083000
DTSTAMP:20260421T114654
CREATED:20251003T022809Z
LAST-MODIFIED:20251003T022809Z
UID:15463-1774079100-1774081800@scnv.org
SUMMARY:2025-26 Club Ice Sat FS 2-23
DESCRIPTION:
URL:https://scnv.org/calendar-event/2025-26-club-ice-sat-fs-2-23/
LOCATION:Fairfax Ice Arena\, 3779 Pickett Rd\, Fairfax\, VA\, 22031\, United States
CATEGORIES:Saturday Freestyle Club Ice
ORGANIZER;CN="Club Ice Chair":MAILTO:clubice@scnv.org
END:VEVENT
BEGIN:VEVENT
DTSTART;TZID=America/New_York:20260321T070000
DTEND;TZID=America/New_York:20260321T074500
DTSTAMP:20260421T114654
CREATED:20251003T022652Z
LAST-MODIFIED:20251003T022652Z
UID:15464-1774076400-1774079100@scnv.org
SUMMARY:2025-26 Club Ice Sat FS 1-23
DESCRIPTION:
URL:https://scnv.org/calendar-event/2025-26-club-ice-sat-fs-1-23/
LOCATION:Fairfax Ice Arena\, 3779 Pickett Rd\, Fairfax\, VA\, 22031\, United States
CATEGORIES:Saturday Freestyle Club Ice
ORGANIZER;CN="Club Ice Chair":MAILTO:clubice@scnv.org
END:VEVENT
BEGIN:VEVENT
DTSTART;VALUE=DATE:20260320
DTEND;VALUE=DATE:20260321
DTSTAMP:20260421T114654
CREATED:20250911T012228Z
LAST-MODIFIED:20250911T012228Z
UID:15289-1773964800-1774051199@scnv.org
SUMMARY:2025 FCPS Student Holiday 19
DESCRIPTION:
URL:https://scnv.org/calendar-event/2025-fcps-student-holiday-19/
LOCATION:VA
CATEGORIES:FCPS Student Holiday
END:VEVENT
BEGIN:VEVENT
DTSTART;TZID=America/New_York:20260315T112000
DTEND;TZID=America/New_York:20260315T120000
DTSTAMP:20260421T114654
CREATED:20260201T154058Z
LAST-MODIFIED:20260208T144053Z
UID:15938-1773573600-1773576000@scnv.org
SUMMARY:2025-26 Club Ice Sun FS 19
DESCRIPTION:
URL:https://scnv.org/calendar-event/2025-26-club-ice-sun-fs-19/
LOCATION:Fairfax Ice Arena\, 3779 Pickett Rd\, Fairfax\, VA\, 22031\, United States
CATEGORIES:Sunday Freestyle Club Ice
ORGANIZER;CN="Club Ice Chair":MAILTO:clubice@scnv.org
END:VEVENT
BEGIN:VEVENT
DTSTART;TZID=America/New_York:20260314T074500
DTEND;TZID=America/New_York:20260314T083000
DTSTAMP:20260421T114654
CREATED:20251003T022445Z
LAST-MODIFIED:20251003T022445Z
UID:15460-1773474300-1773477000@scnv.org
SUMMARY:2025-26 Club Ice Sat FS 2-22
DESCRIPTION:
URL:https://scnv.org/calendar-event/2025-26-club-ice-sat-fs-2-22/
LOCATION:Fairfax Ice Arena\, 3779 Pickett Rd\, Fairfax\, VA\, 22031\, United States
CATEGORIES:Saturday Freestyle Club Ice
ORGANIZER;CN="Club Ice Chair":MAILTO:clubice@scnv.org
END:VEVENT
BEGIN:VEVENT
DTSTART;TZID=America/New_York:20260314T070000
DTEND;TZID=America/New_York:20260314T074500
DTSTAMP:20260421T114654
CREATED:20251003T022442Z
LAST-MODIFIED:20251003T022442Z
UID:15459-1773471600-1773474300@scnv.org
SUMMARY:2025-26 Club Ice Sat FS 1-22
DESCRIPTION:
URL:https://scnv.org/calendar-event/2025-26-club-ice-sat-fs-1-22/
LOCATION:Fairfax Ice Arena\, 3779 Pickett Rd\, Fairfax\, VA\, 22031\, United States
CATEGORIES:Saturday Freestyle Club Ice
ORGANIZER;CN="Club Ice Chair":MAILTO:clubice@scnv.org
END:VEVENT
BEGIN:VEVENT
DTSTART;TZID=America/New_York:20260308T112000
DTEND;TZID=America/New_York:20260308T120000
DTSTAMP:20260421T114654
CREATED:20250914T023808Z
LAST-MODIFIED:20260208T143940Z
UID:15332-1772968800-1772971200@scnv.org
SUMMARY:2025-26 Club Ice Sun FS 18
DESCRIPTION:
URL:https://scnv.org/calendar-event/2025-26-club-ice-sun-fs-18/
LOCATION:Fairfax Ice Arena\, 3779 Pickett Rd\, Fairfax\, VA\, 22031\, United States
CATEGORIES:Sunday Freestyle Club Ice
ORGANIZER;CN="Club Ice Chair":MAILTO:clubice@scnv.org
END:VEVENT
BEGIN:VEVENT
DTSTART;TZID=America/New_York:20260307T074500
DTEND;TZID=America/New_York:20260307T083000
DTSTAMP:20260421T114654
CREATED:20251003T021944Z
LAST-MODIFIED:20251003T022011Z
UID:15456-1772869500-1772872200@scnv.org
SUMMARY:2025-26 Club Ice Sat FS 2-21
DESCRIPTION:
URL:https://scnv.org/calendar-event/2025-26-club-ice-sat-fs-2-21/
LOCATION:Fairfax Ice Arena\, 3779 Pickett Rd\, Fairfax\, VA\, 22031\, United States
CATEGORIES:Saturday Freestyle Club Ice
ORGANIZER;CN="Club Ice Chair":MAILTO:clubice@scnv.org
END:VEVENT
BEGIN:VEVENT
DTSTART;TZID=America/New_York:20260307T070000
DTEND;TZID=America/New_York:20260307T074500
DTSTAMP:20260421T114654
CREATED:20251003T021941Z
LAST-MODIFIED:20251003T021941Z
UID:15455-1772866800-1772869500@scnv.org
SUMMARY:2025-26 Club Ice Sat FS 1-21
DESCRIPTION:
URL:https://scnv.org/calendar-event/2025-26-club-ice-sat-fs-1-21/
LOCATION:Fairfax Ice Arena\, 3779 Pickett Rd\, Fairfax\, VA\, 22031\, United States
CATEGORIES:Saturday Freestyle Club Ice
ORGANIZER;CN="Club Ice Chair":MAILTO:clubice@scnv.org
END:VEVENT
BEGIN:VEVENT
DTSTART;TZID=America/New_York:20260301T112000
DTEND;TZID=America/New_York:20260301T120000
DTSTAMP:20260421T114654
CREATED:20250914T012727Z
LAST-MODIFIED:20260208T143843Z
UID:15326-1772364000-1772366400@scnv.org
SUMMARY:2025-26 Club Ice Sun FS 17
DESCRIPTION:For Club Ice Make-up/Drop-in FS session.
URL:https://scnv.org/calendar-event/2025-26-club-ice-sun-fs-17/
LOCATION:Fairfax Ice Arena\, 3779 Pickett Rd\, Fairfax\, VA\, 22031\, United States
CATEGORIES:Sunday Freestyle Club Ice
ORGANIZER;CN="Club Ice Chair":MAILTO:clubice@scnv.org
END:VEVENT
BEGIN:VEVENT
DTSTART;TZID=America/New_York:20260301T112000
DTEND;TZID=America/New_York:20260301T120000
DTSTAMP:20260421T114654
CREATED:20250911T014027Z
LAST-MODIFIED:20260208T143737Z
UID:15303-1772364000-1772366400@scnv.org
SUMMARY:(cancelled) 2026 Adult Sectionals & Nationals Send-offs
DESCRIPTION:This event has been cancelled and merged into the 2026 Adult Skating Exhibition at AIH on 2/28 in coordination with WFSC.
URL:https://scnv.org/calendar-event/2026-adult-sectionals-nationals-send-offs/
LOCATION:Fairfax Ice Arena\, 3779 Pickett Rd\, Fairfax\, VA\, 22031\, United States
CATEGORIES:Adult Skating
ORGANIZER;CN="SCNV Adult Skating Committee":MAILTO:adultskating@scnv.org
END:VEVENT
BEGIN:VEVENT
DTSTART;TZID=America/New_York:20260228T113000
DTEND;TZID=America/New_York:20260228T131500
DTSTAMP:20260421T114654
CREATED:20260201T150902Z
LAST-MODIFIED:20260201T150902Z
UID:15928-1772278200-1772284500@scnv.org
SUMMARY:2026 Adult Skating Exhibition
DESCRIPTION:For our Adult member competitors\, WFSC and SCNV again are hosting the 2026 Adult Skater Exhibition at Ashburn Ice House on Saturday\, 2/28 from 11:30 AM to 1:15 PM. Please use the Sign Up Genius link here. \nQuestions? Please contact Jenn at jenn@scnv.org.
URL:https://scnv.org/calendar-event/2026-adult-skating-exhibition/
LOCATION:Ashburn Ice House\, 21595 Smith Switch Rd.\, Ashburn\, VA\, 20147\, United States
CATEGORIES:Adult Skating
ORGANIZER;CN="SCNV Adult Skating Committee":MAILTO:adultskating@scnv.org
END:VEVENT
BEGIN:VEVENT
DTSTART;TZID=America/New_York:20260228T074500
DTEND;TZID=America/New_York:20260228T083000
DTSTAMP:20260421T114654
CREATED:20251003T021503Z
LAST-MODIFIED:20251003T021503Z
UID:15452-1772264700-1772267400@scnv.org
SUMMARY:2025-26 Club Ice Sat FS 2-20
DESCRIPTION:
URL:https://scnv.org/calendar-event/2025-26-club-ice-sat-fs-2-20/
LOCATION:Fairfax Ice Arena\, 3779 Pickett Rd\, Fairfax\, VA\, 22031\, United States
CATEGORIES:Saturday Freestyle Club Ice
ORGANIZER;CN="Club Ice Chair":MAILTO:clubice@scnv.org
END:VEVENT
BEGIN:VEVENT
DTSTART;TZID=America/New_York:20260228T070000
DTEND;TZID=America/New_York:20260228T074500
DTSTAMP:20260421T114654
CREATED:20251003T021443Z
LAST-MODIFIED:20251003T021443Z
UID:15451-1772262000-1772264700@scnv.org
SUMMARY:2025-26 Club Ice Sat FS 1-20
DESCRIPTION:
URL:https://scnv.org/calendar-event/2025-26-club-ice-sat-fs-1-20/
LOCATION:Fairfax Ice Arena\, 3779 Pickett Rd\, Fairfax\, VA\, 22031\, United States
CATEGORIES:Saturday Freestyle Club Ice
ORGANIZER;CN="Club Ice Chair":MAILTO:clubice@scnv.org
END:VEVENT
BEGIN:VEVENT
DTSTART;TZID=America/New_York:20260222T080000
DTEND;TZID=America/New_York:20260222T115000
DTSTAMP:20260421T114654
CREATED:20250914T011332Z
LAST-MODIFIED:20250914T011413Z
UID:15327-1771747200-1771761000@scnv.org
SUMMARY:02/2026 Test Session
DESCRIPTION:
URL:https://scnv.org/calendar-event/02-2026-test-session/
LOCATION:Fairfax Ice Arena\, 3779 Pickett Rd\, Fairfax\, VA\, 22031\, United States
CATEGORIES:Test Session
ORGANIZER;CN="Test Chair":MAILTO:testchair@scnv.org
END:VEVENT
BEGIN:VEVENT
DTSTART;TZID=America/New_York:20260218T190000
DTEND;TZID=America/New_York:20260218T203000
DTSTAMP:20260421T114654
CREATED:20260205T010658Z
LAST-MODIFIED:20260205T010658Z
UID:15951-1771441200-1771446600@scnv.org
SUMMARY:02/2026 Board Meeting
DESCRIPTION:
URL:https://scnv.org/calendar-event/02-2026-board-meeting/
LOCATION:Board Conference Center
CATEGORIES:Board Meeting
ORGANIZER;CN="President":MAILTO:president@scnv.org
END:VEVENT
BEGIN:VEVENT
DTSTART;VALUE=DATE:20260217
DTEND;VALUE=DATE:20260218
DTSTAMP:20260421T114654
CREATED:20250911T012042Z
LAST-MODIFIED:20250911T012042Z
UID:15287-1771286400-1771372799@scnv.org
SUMMARY:2025 FCPS Student Holiday 18
DESCRIPTION:
URL:https://scnv.org/calendar-event/2025-fcps-student-holiday-18/
LOCATION:VA
CATEGORIES:FCPS Student Holiday
END:VEVENT
BEGIN:VEVENT
DTSTART;VALUE=DATE:20260217
DTEND;VALUE=DATE:20260218
DTSTAMP:20260421T114654
CREATED:20250911T010931Z
LAST-MODIFIED:20250911T010931Z
UID:15274-1771286400-1771372799@scnv.org
SUMMARY:2026 Lunar New Year
DESCRIPTION:
URL:https://scnv.org/calendar-event/2026-lunar-new-year/
LOCATION:VA
CATEGORIES:Lunar New Year
END:VEVENT
BEGIN:VEVENT
DTSTART;VALUE=DATE:20260216
DTEND;VALUE=DATE:20260217
DTSTAMP:20260421T114654
CREATED:20250911T011828Z
LAST-MODIFIED:20250911T011828Z
UID:15285-1771200000-1771286399@scnv.org
SUMMARY:2025 FCPS Student Holiday 17
DESCRIPTION:
URL:https://scnv.org/calendar-event/2025-fcps-student-holiday-17/
LOCATION:VA
CATEGORIES:FCPS Student Holiday
END:VEVENT
BEGIN:VEVENT
DTSTART;VALUE=DATE:20260216
DTEND;VALUE=DATE:20260217
DTSTAMP:20260421T114654
CREATED:20250911T004124Z
LAST-MODIFIED:20250911T004124Z
UID:15256-1771200000-1771286399@scnv.org
SUMMARY:2026 Presidents Day
DESCRIPTION:
URL:https://scnv.org/calendar-event/2026-presidents-day/
LOCATION:VA
CATEGORIES:Presidents' Day
END:VEVENT
BEGIN:VEVENT
DTSTART;TZID=America/New_York:20260215T112000
DTEND;TZID=America/New_York:20260215T120000
DTSTAMP:20260421T114654
CREATED:20250914T010650Z
LAST-MODIFIED:20260201T153540Z
UID:15324-1771154400-1771156800@scnv.org
SUMMARY:2025-26 Club Ice Sun FS 16
DESCRIPTION:
URL:https://scnv.org/calendar-event/2025-26-club-ice-sun-fs-16/
LOCATION:Fairfax Ice Arena\, 3779 Pickett Rd\, Fairfax\, VA\, 22031\, United States
CATEGORIES:Sunday Freestyle Club Ice
ORGANIZER;CN="Club Ice Chair":MAILTO:clubice@scnv.org
END:VEVENT
BEGIN:VEVENT
DTSTART;TZID=America/New_York:20260214T074500
DTEND;TZID=America/New_York:20260214T083000
DTSTAMP:20260421T114654
CREATED:20251003T021127Z
LAST-MODIFIED:20251003T021127Z
UID:15446-1771055100-1771057800@scnv.org
SUMMARY:2025-26 Club Ice Sat FS 2-19
DESCRIPTION:
URL:https://scnv.org/calendar-event/2025-26-club-ice-sat-fs-2-19/
LOCATION:Fairfax Ice Arena\, 3779 Pickett Rd\, Fairfax\, VA\, 22031\, United States
ORGANIZER;CN="Club Ice Chair":MAILTO:clubice@scnv.org
END:VEVENT
BEGIN:VEVENT
DTSTART;TZID=America/New_York:20260214T070000
DTEND;TZID=America/New_York:20260214T074500
DTSTAMP:20260421T114654
CREATED:20251003T020959Z
LAST-MODIFIED:20251003T020959Z
UID:15445-1771052400-1771055100@scnv.org
SUMMARY:2025-26 Club Ice Sat FS 1-19
DESCRIPTION:
URL:https://scnv.org/calendar-event/2025-26-club-ice-sat-fs-1-19/
LOCATION:Fairfax Ice Arena\, 3779 Pickett Rd\, Fairfax\, VA\, 22031\, United States
CATEGORIES:Saturday Freestyle Club Ice
ORGANIZER;CN="Club Ice Chair":MAILTO:clubice@scnv.org
END:VEVENT
BEGIN:VEVENT
DTSTART;VALUE=DATE:20260214
DTEND;VALUE=DATE:20260215
DTSTAMP:20260421T114654
CREATED:20251003T015425Z
LAST-MODIFIED:20251003T015425Z
UID:15447-1771027200-1771113599@scnv.org
SUMMARY:2026 Valentine's Day
DESCRIPTION:
URL:https://scnv.org/calendar-event/2026-valentines-day/
LOCATION:VA
CATEGORIES:Valentine's Day
ORGANIZER;CN="Webmaster":MAILTO:webmaster@scnv.org
END:VEVENT
BEGIN:VEVENT
DTSTART;TZID=America/New_York:20260213T183000
DTEND;TZID=America/New_York:20260213T213000
DTSTAMP:20260421T114654
CREATED:20260201T150354Z
LAST-MODIFIED:20260201T160356Z
UID:15925-1771007400-1771018200@scnv.org
SUMMARY:2026 Olympic Night Valentine's Day Party
DESCRIPTION:Olympic Night Valentine’s Day Edition – 2/13 \nGet ready for a night of cozy fun and Olympic excitement! Join us for a special Valentine’s PJ Party & Olympic Watch Party\, where love is in the air and gold is on the ice. Come cheer on your favorite skaters\, enjoy festive Valentine-themed crafts\, sweet treats\, and time with friends—all while relaxing in your red or pink heart pajamas. Don’t forget to bring your sleeping bag and blanket so you can get comfy while watching the competition. It’s the perfect way to celebrate Valentine’s Day together as an SCNV community—don’t miss this fun-filled evening! \nRSVP BY WEDNESDAY\, FEBRUARY 11TH AT:\nClick evite link. \n \nQuestions? Please contact Anne at anne@scnv.org.
URL:https://scnv.org/calendar-event/2026-olympic-night-valentines-day-party/
LOCATION:Stacy C. Sherwood Community Center\, 3740 Blenheim Blvd.\, Fairfax\, VA\, 22030\, United States
CATEGORIES:Announcements
ORGANIZER;CN="Special Events":MAILTO:president@scnv.org
END:VEVENT
BEGIN:VEVENT
DTSTART;TZID=America/New_York:20260208T112000
DTEND;TZID=America/New_York:20260208T120000
DTSTAMP:20260421T114654
CREATED:20250914T010504Z
LAST-MODIFIED:20260201T153439Z
UID:15322-1770549600-1770552000@scnv.org
SUMMARY:2025-26 Club Ice Sun FS 15
DESCRIPTION:Scheduled make-up/drop-in FS session.
URL:https://scnv.org/calendar-event/2025-26-club-ice-sun-fs-15/
LOCATION:Fairfax Ice Arena\, 3779 Pickett Rd\, Fairfax\, VA\, 22031\, United States
CATEGORIES:Sunday Freestyle Club Ice
ORGANIZER;CN="Club Ice Chair":MAILTO:clubice@scnv.org
END:VEVENT
BEGIN:VEVENT
DTSTART;TZID=America/New_York:20260207T074500
DTEND;TZID=America/New_York:20260207T083000
DTSTAMP:20260421T114654
CREATED:20251003T015026Z
LAST-MODIFIED:20251003T015026Z
UID:15442-1770450300-1770453000@scnv.org
SUMMARY:2025-26 Club Ice Sat FS 2-18
DESCRIPTION:
URL:https://scnv.org/calendar-event/2025-26-club-ice-sat-fs-2-18/
LOCATION:Fairfax Ice Arena\, 3779 Pickett Rd\, Fairfax\, VA\, 22031\, United States
CATEGORIES:Saturday Freestyle Club Ice
ORGANIZER;CN="Club Ice Chair":MAILTO:clubice@scnv.org
END:VEVENT
BEGIN:VEVENT
DTSTART;TZID=America/New_York:20260207T070000
DTEND;TZID=America/New_York:20260207T074500
DTSTAMP:20260421T114654
CREATED:20251003T014915Z
LAST-MODIFIED:20251003T014915Z
UID:15441-1770447600-1770450300@scnv.org
SUMMARY:2025-26 Club Ice Sat FS 1-18
DESCRIPTION:
URL:https://scnv.org/calendar-event/2025-26-club-ice-sat-fs-1-18/
LOCATION:Fairfax Ice Arena\, 3779 Pickett Rd\, Fairfax\, VA\, 22031\, United States
CATEGORIES:Saturday Freestyle Club Ice
ORGANIZER;CN="Club Ice Chair":MAILTO:clubice@scnv.org
END:VEVENT
BEGIN:VEVENT
DTSTART;TZID=America/New_York:20260201T112000
DTEND;TZID=America/New_York:20260201T120000
DTSTAMP:20260421T114654
CREATED:20250913T221529Z
LAST-MODIFIED:20250913T223017Z
UID:15319-1769944800-1769947200@scnv.org
SUMMARY:2025-26 Club Ice Sun FS 14
DESCRIPTION:
URL:https://scnv.org/calendar-event/2025-26-club-ice-sun-fs-14/
LOCATION:Fairfax Ice Arena\, 3779 Pickett Rd\, Fairfax\, VA\, 22031\, United States
CATEGORIES:Sunday Freestyle Club Ice
ORGANIZER;CN="Club Ice Chair":MAILTO:clubice@scnv.org
END:VEVENT
END:VCALENDAR